BEGIN:VCALENDAR
VERSION:2.0
PRODID:-//wp-events-plugin.com//6.6.4.4//EN
BEGIN:VEVENT
UID:77@eventoslahuertadearanjuez.es
DTSTART;TZID=Europe/Madrid:20240511T100000
DTEND;TZID=Europe/Madrid:20240511T120000
DTSTAMP:20240510T144640Z
URL:https://eventoslahuertadearanjuez.es/eventos/turno-1-11-de-mayo/
SUMMARY:Turno 1 - 11 de Mayo - AGOTADO -
DESCRIPTION:﻿
ATTACH;FMTTYPE=image/jpeg:https://eventoslahuertadearanjuez.es/wp-content/
 uploads/2024/04/berry-happy-days-la-huerta-de-aranjuez-2.jpg
END:VEVENT
BEGIN:VTIMEZONE
TZID:Europe/Madrid
X-LIC-LOCATION:Europe/Madrid
BEGIN:DAYLIGHT
DTSTART:20240331T030000
TZOFFSETFROM:+0100
TZOFFSETTO:+0200
TZNAME:CEST
END:DAYLIGHT
END:VTIMEZONE
END:VCALENDAR