BEGIN:VCALENDAR
VERSION:2.0
PRODID:-//wp-events-plugin.com//6.6.4.4//EN
BEGIN:VEVENT
UID:66@eventoslahuertadearanjuez.es
DTSTART;TZID=Europe/Madrid:20240421T100000
DTEND;TZID=Europe/Madrid:20240421T120000
DTSTAMP:20240415T111940Z
URL:https://eventoslahuertadearanjuez.es/eventos/turno-1-21-abril/
SUMMARY:Turno 1  - 21 de Abril - AGOTADO -
DESCRIPTION:﻿
ATTACH;FMTTYPE=image/jpeg:https://eventoslahuertadearanjuez.es/wp-content/
 uploads/2024/04/Berry-Happy-Days-La-Huerta-de-Aranjuez-copy.jpg
END:VEVENT
BEGIN:VTIMEZONE
TZID:Europe/Madrid
X-LIC-LOCATION:Europe/Madrid
BEGIN:DAYLIGHT
DTSTART:20240331T030000
TZOFFSETFROM:+0100
TZOFFSETTO:+0200
TZNAME:CEST
END:DAYLIGHT
END:VTIMEZONE
END:VCALENDAR