BEGIN:VCALENDAR
VERSION:2.0
PRODID:-//wp-events-plugin.com//6.6.4.4//EN
BEGIN:VEVENT
UID:98@eventoslahuertadearanjuez.es
DTSTART;TZID=Europe/Madrid:20241013T100000
DTEND;TZID=Europe/Madrid:20241013T120000
DTSTAMP:20241003T183316Z
URL:https://eventoslahuertadearanjuez.es/eventos/turno-1-dom-13-octubre/
SUMMARY:Turno 1  - Dom 13 Octubre
DESCRIPTION:
ATTACH;FMTTYPE=image/jpeg:https://eventoslahuertadearanjuez.es/wp-content/
 uploads/2024/08/AGOTADO3.jpg
END:VEVENT
BEGIN:VTIMEZONE
TZID:Europe/Madrid
X-LIC-LOCATION:Europe/Madrid
BEGIN:DAYLIGHT
DTSTART:20240331T030000
TZOFFSETFROM:+0100
TZOFFSETTO:+0200
TZNAME:CEST
END:DAYLIGHT
END:VTIMEZONE
END:VCALENDAR