BEGIN:VCALENDAR
VERSION:2.0
PRODID:-//wp-events-plugin.com//6.6.4.4//EN
BEGIN:VEVENT
UID:109@eventoslahuertadearanjuez.es
DTSTART;TZID=Europe/Madrid:20241026T100000
DTEND;TZID=Europe/Madrid:20241026T122000
DTSTAMP:20241020T053433Z
URL:https://eventoslahuertadearanjuez.es/eventos/turno-1-sab-26-octubre-ev
 ento-especial-20min/
SUMMARY:Turno 1  - Sab 26 Octubre  - Evento Especial (+20min)
DESCRIPTION:
ATTACH;FMTTYPE=image/jpeg:https://eventoslahuertadearanjuez.es/wp-content/
 uploads/2024/08/AGOTADO2.jpg
END:VEVENT
BEGIN:VTIMEZONE
TZID:Europe/Madrid
X-LIC-LOCATION:Europe/Madrid
BEGIN:DAYLIGHT
DTSTART:20240331T030000
TZOFFSETFROM:+0100
TZOFFSETTO:+0200
TZNAME:CEST
END:DAYLIGHT
END:VTIMEZONE
END:VCALENDAR