BEGIN:VCALENDAR
VERSION:2.0
PRODID:-//wp-events-plugin.com//6.6.4.4//EN
BEGIN:VEVENT
UID:62@eventoslahuertadearanjuez.es
DTSTART;TZID=Europe/Madrid:20240324T154500
DTEND;TZID=Europe/Madrid:20240324T174500
DTSTAMP:20240322T013654Z
URL:https://eventoslahuertadearanjuez.es/eventos/turno-2-24-marzo/
SUMMARY:Turno 2  - 24 Marzo - AGOTADO -
DESCRIPTION:
ATTACH;FMTTYPE=image/jpeg:https://eventoslahuertadearanjuez.es/wp-content/
 uploads/2024/02/agotado-1.jpg
END:VEVENT
BEGIN:VTIMEZONE
TZID:Europe/Madrid
X-LIC-LOCATION:Europe/Madrid
BEGIN:STANDARD
DTSTART:20231029T020000
TZOFFSETFROM:+0200
TZOFFSETTO:+0100
TZNAME:CET
END:STANDARD
END:VTIMEZONE
END:VCALENDAR