BEGIN:VCALENDAR
VERSION:2.0
PRODID:-//wp-events-plugin.com//6.6.4.4//EN
BEGIN:VEVENT
UID:113@eventoslahuertadearanjuez.es
DTSTART;TZID=Europe/Madrid:20241027T123000
DTEND;TZID=Europe/Madrid:20241027T145000
DTSTAMP:20241020T053814Z
URL:https://eventoslahuertadearanjuez.es/eventos/turno-2-dom-27-octubre-ev
 ento-especial-20min/
SUMMARY:Turno 2  - Dom 27 Octubre  - Evento Especial (+20min)
DESCRIPTION:
ATTACH;FMTTYPE=image/jpeg:https://eventoslahuertadearanjuez.es/wp-content/
 uploads/2024/08/AGOTADO3.jpg
END:VEVENT
BEGIN:VTIMEZONE
TZID:Europe/Madrid
X-LIC-LOCATION:Europe/Madrid
BEGIN:STANDARD
DTSTART:20241027T020000
TZOFFSETFROM:+0200
TZOFFSETTO:+0100
TZNAME:CET
END:STANDARD
END:VTIMEZONE
END:VCALENDAR