BEGIN:VCALENDAR
VERSION:2.0
PRODID:-//wp-events-plugin.com//6.6.4.4//EN
BEGIN:VEVENT
UID:103@eventoslahuertadearanjuez.es
DTSTART;TZID=Europe/Madrid:20241019T160000
DTEND;TZID=Europe/Madrid:20241019T180000
DTSTAMP:20241016T145327Z
URL:https://eventoslahuertadearanjuez.es/eventos/turno-2-sab-19-octubre/
SUMMARY:Turno 3  - Sab 19 Octubre
DESCRIPTION:
ATTACH;FMTTYPE=image/jpeg:https://eventoslahuertadearanjuez.es/wp-content/
 uploads/2024/08/AGOTADO3.jpg
END:VEVENT
BEGIN:VTIMEZONE
TZID:Europe/Madrid
X-LIC-LOCATION:Europe/Madrid
BEGIN:DAYLIGHT
DTSTART:20240331T030000
TZOFFSETFROM:+0100
TZOFFSETTO:+0200
TZNAME:CEST
END:DAYLIGHT
END:VTIMEZONE
END:VCALENDAR